BEGIN:VCALENDAR
VERSION:2.0
PRODID:icalendar-ruby
CALSCALE:GREGORIAN
METHOD:PUBLISH
BEGIN:VTIMEZONE
TZID:Australia/Perth
BEGIN:STANDARD
DTSTART:20090329T020000
TZOFFSETFROM:+0900
TZOFFSETTO:+0800
TZNAME:AWST
END:STANDARD
END:VTIMEZONE
BEGIN:VEVENT
DTSTAMP:20260425T103439Z
UID:inspection_3012387
DTSTART;TZID=Australia/Perth:20260427T110000
DTEND;TZID=Australia/Perth:20260427T113000
CLASS:PUBLIC
CREATED:20260424T100332
DESCRIPTION: 
LAST-MODIFIED:20260424T100332
LOCATION:8B Hewitt Street\, SOUTH KALGOORLIE WA 6430\, Australia
SUMMARY:8B Hewitt Street\,  Inspection
URL;VALUE=URI:http://www.ecre.com.au/
END:VEVENT
END:VCALENDAR
